BEGIN:VCALENDAR
VERSION:2.0
PRODID:icalendar-ruby
CALSCALE:GREGORIAN
METHOD:PUBLISH
BEGIN:VEVENT
DTSTAMP:20260422T212856Z
UID:5-772882@freedomprojectz.com
DTSTART:20261018T180000Z
DTEND:20261018T190000Z
CLASS:PUBLIC
CREATED:20260422T125805
DESCRIPTION:Sunday Worship
LAST-MODIFIED:20260422T125805
LOCATION:
SUMMARY:Sunday Worship
URL;VALUE=URI:https://freedomprojectz.com/events/sunday-worship/2026-10-18
END:VEVENT
END:VCALENDAR
