BEGIN:VCALENDAR
VERSION:2.0
PRODID:icalendar-ruby
CALSCALE:GREGORIAN
METHOD:PUBLISH
BEGIN:VEVENT
DTSTAMP:20260422T230622Z
UID:5-773262@freedomprojectz.com
DTSTART:20261025T180000Z
DTEND:20261025T190000Z
CLASS:PUBLIC
CREATED:20260422T155136
DESCRIPTION:Sunday Worship
LAST-MODIFIED:20260422T155136
LOCATION:
SUMMARY:Sunday Worship
URL;VALUE=URI:https://freedomprojectz.com/events/sunday-worship/2026-10-25
END:VEVENT
END:VCALENDAR
