BEGIN:VCALENDAR
VERSION:2.0
PRODID:icalendar-ruby
CALSCALE:GREGORIAN
METHOD:PUBLISH
BEGIN:VEVENT
DTSTAMP:20260423T004630Z
UID:5-773263@freedomprojectz.com
DTSTART:20261101T190000Z
DTEND:20261101T200000Z
CLASS:PUBLIC
CREATED:20260422T155136
DESCRIPTION:Sunday Worship
LAST-MODIFIED:20260422T155136
LOCATION:
SUMMARY:Sunday Worship
URL;VALUE=URI:https://freedomprojectz.com/events/sunday-worship/2026-11-01
END:VEVENT
END:VCALENDAR
